BEGIN:VCALENDAR
VERSION:2.0
PRODID:-//Home - ECPv6.15.20//NONSGML v1.0//EN
CALSCALE:GREGORIAN
METHOD:PUBLISH
X-WR-CALNAME:Home
X-ORIGINAL-URL:https://fair.malheurco.org
X-WR-CALDESC:Events for Home
REFRESH-INTERVAL;VALUE=DURATION:PT1H
X-Robots-Tag:noindex
X-PUBLISHED-TTL:PT1H
BEGIN:VTIMEZONE
TZID:UTC
BEGIN:STANDARD
TZOFFSETFROM:+0000
TZOFFSETTO:+0000
TZNAME:UTC
DTSTART:20240101T000000
END:STANDARD
END:VTIMEZONE
BEGIN:VEVENT
DTSTART;TZID=UTC:20250801T080000
DTEND;TZID=UTC:20250801T230000
DTSTAMP:20260421T082907
CREATED:20250424T212038Z
LAST-MODIFIED:20250424T212038Z
UID:437-1754035200-1754089200@fair.malheurco.org
SUMMARY:Malheur County Fair & Rodeo
DESCRIPTION:
URL:https://fair.malheurco.org/event/malheur-county-fair-rodeo-4/
LOCATION:Malheur County Fairgrounds\, 795 NW 9th St\, Ontario\, OR\, 97914\, United States
ORGANIZER;CN="Malheur County Fair Board":MAILTO:fair@malheurco.org
END:VEVENT
BEGIN:VEVENT
DTSTART;TZID=UTC:20250802T080000
DTEND;TZID=UTC:20250802T230000
DTSTAMP:20260421T082907
CREATED:20250424T212123Z
LAST-MODIFIED:20250424T212123Z
UID:439-1754121600-1754175600@fair.malheurco.org
SUMMARY:Malheur County Fair & Rodeo
DESCRIPTION:
URL:https://fair.malheurco.org/event/malheur-county-fair-rodeo-5/
LOCATION:Malheur County Fairgrounds\, 795 NW 9th St\, Ontario\, OR\, 97914\, United States
ORGANIZER;CN="Malheur County Fair Board":MAILTO:fair@malheurco.org
END:VEVENT
END:VCALENDAR